BEGIN:VCALENDAR
VERSION:2.0
PRODID:-//Oficiali FK Transinvest svetainė - ECPv6.15.16//NONSGML v1.0//EN
CALSCALE:GREGORIAN
METHOD:PUBLISH
X-ORIGINAL-URL:https://fktransinvest.lt
X-WR-CALDESC:Oficiali FK Transinvest svetainė renginiai
REFRESH-INTERVAL;VALUE=DURATION:PT1H
X-Robots-Tag:noindex
X-PUBLISHED-TTL:PT1H
BEGIN:VTIMEZONE
TZID:Europe/Vilnius
BEGIN:DAYLIGHT
TZOFFSETFROM:+0200
TZOFFSETTO:+0300
TZNAME:EEST
DTSTART:20250330T010000
END:DAYLIGHT
BEGIN:STANDARD
TZOFFSETFROM:+0300
TZOFFSETTO:+0200
TZNAME:EET
DTSTART:20251026T010000
END:STANDARD
BEGIN:DAYLIGHT
TZOFFSETFROM:+0200
TZOFFSETTO:+0300
TZNAME:EEST
DTSTART:20260329T010000
END:DAYLIGHT
BEGIN:STANDARD
TZOFFSETFROM:+0300
TZOFFSETTO:+0200
TZNAME:EET
DTSTART:20261025T010000
END:STANDARD
BEGIN:DAYLIGHT
TZOFFSETFROM:+0200
TZOFFSETTO:+0300
TZNAME:EEST
DTSTART:20270328T010000
END:DAYLIGHT
BEGIN:STANDARD
TZOFFSETFROM:+0300
TZOFFSETTO:+0200
TZNAME:EET
DTSTART:20271031T010000
END:STANDARD
END:VTIMEZONE
BEGIN:VEVENT
DTSTART;TZID=Europe/Vilnius:20260426T163000
DTEND;TZID=Europe/Vilnius:20260426T180000
DTSTAMP:20260419T161958
CREATED:20260303T100745Z
LAST-MODIFIED:20260326T073048Z
UID:2153-1777221000-1777226400@fktransinvest.lt
SUMMARY:FA Šiauliai - FK TransINVEST
DESCRIPTION:
URL:https://fktransinvest.lt/renginiai/fa-siauliai-fk-transinvest/
CATEGORIES:TOPLYGA
ATTACH;FMTTYPE=image/png:https://fktransinvest.lt/wp-content/uploads/2026/03/Renginiu-kalendoriui-3-1.png
END:VEVENT
BEGIN:VEVENT
DTSTART;TZID=Europe/Vilnius:20260501T150000
DTEND;TZID=Europe/Vilnius:20260501T170000
DTSTAMP:20260419T161958
CREATED:20260316T064557Z
LAST-MODIFIED:20260326T073333Z
UID:2283-1777647600-1777654800@fktransinvest.lt
SUMMARY:FK Riteriai - FK TransINVEST
DESCRIPTION:
URL:https://fktransinvest.lt/renginiai/riteriai-fk-transinvest/
CATEGORIES:TOPLYGA
ATTACH;FMTTYPE=image/png:https://fktransinvest.lt/wp-content/uploads/2026/03/Renginiu-kalendoriui-4-1.png
END:VEVENT
BEGIN:VEVENT
DTSTART;TZID=Europe/Vilnius:20260506T200000
DTEND;TZID=Europe/Vilnius:20260506T220000
DTSTAMP:20260419T161958
CREATED:20260316T064744Z
LAST-MODIFIED:20260326T073935Z
UID:2287-1778097600-1778104800@fktransinvest.lt
SUMMARY:FK TransINVEST - FK Sūduva
DESCRIPTION:
URL:https://fktransinvest.lt/renginiai/fk-transinvest-fk-suduva/
LOCATION:FK TransINVEST stadionas\, Galinės g. 5\, Galinė\, Vilniaus raj.\, Lithuania
CATEGORIES:TOPLYGA
ATTACH;FMTTYPE=image/png:https://fktransinvest.lt/wp-content/uploads/2026/03/Renginiu-kalendoriui-7-1.png
END:VEVENT
BEGIN:VEVENT
DTSTART;TZID=Europe/Vilnius:20260510T170000
DTEND;TZID=Europe/Vilnius:20260510T190000
DTSTAMP:20260419T161958
CREATED:20260316T064936Z
LAST-MODIFIED:20260326T074331Z
UID:2289-1778432400-1778439600@fktransinvest.lt
SUMMARY:FK Banga - FK TransINVEST
DESCRIPTION:
URL:https://fktransinvest.lt/renginiai/fk-banga-fk-transinvest/
LOCATION:Gargždų m. stadionas\, Klaipėdos g. 26\, Gargždai\, Lithuania
CATEGORIES:TOPLYGA
ATTACH;FMTTYPE=image/png:https://fktransinvest.lt/wp-content/uploads/2026/03/Renginiu-kalendoriui-9.png
END:VEVENT
BEGIN:VEVENT
DTSTART;TZID=Europe/Vilnius:20260517T141500
DTEND;TZID=Europe/Vilnius:20260517T160000
DTSTAMP:20260419T161958
CREATED:20260316T065120Z
LAST-MODIFIED:20260326T081154Z
UID:2293-1779027300-1779033600@fktransinvest.lt
SUMMARY:FK TransINVEST - FK Žalgiris
DESCRIPTION:
URL:https://fktransinvest.lt/renginiai/fk-transinvest-fk-zalgiris/
LOCATION:FK TransINVEST stadionas\, Galinės g. 5\, Galinė\, Vilniaus raj.\, Lithuania
CATEGORIES:TOPLYGA
ATTACH;FMTTYPE=image/png:https://fktransinvest.lt/wp-content/uploads/2026/03/Renginiu-kalendoriui-13.png
END:VEVENT
BEGIN:VEVENT
DTSTART;TZID=Europe/Vilnius:20260524T193000
DTEND;TZID=Europe/Vilnius:20260524T213000
DTSTAMP:20260419T161958
CREATED:20260316T065251Z
LAST-MODIFIED:20260316T065251Z
UID:2295-1779651000-1779658200@fktransinvest.lt
SUMMARY:FC Džiugas - FK TransINVEST
DESCRIPTION:
URL:https://fktransinvest.lt/renginiai/fc-dziugas-fk-transinvest/
CATEGORIES:TOPLYGA
END:VEVENT
BEGIN:VEVENT
DTSTART;TZID=Europe/Vilnius:20260529T200000
DTEND;TZID=Europe/Vilnius:20260529T220000
DTSTAMP:20260419T161958
CREATED:20260316T065340Z
LAST-MODIFIED:20260316T065340Z
UID:2297-1780084800-1780092000@fktransinvest.lt
SUMMARY:FK TransINVEST - FC Hegelmann
DESCRIPTION:
URL:https://fktransinvest.lt/renginiai/fk-transinvest-fc-hegelmann/
LOCATION:FK TransINVEST stadionas\, Galinės g. 5\, Galinė\, Vilniaus raj.\, Lithuania
CATEGORIES:TOPLYGA
END:VEVENT
BEGIN:VEVENT
DTSTART;TZID=Europe/Vilnius:20260613T163000
DTEND;TZID=Europe/Vilnius:20260613T183000
DTSTAMP:20260419T161958
CREATED:20260316T065502Z
LAST-MODIFIED:20260316T065502Z
UID:2299-1781368200-1781375400@fktransinvest.lt
SUMMARY:FK Panevėžys - FK TransINVEST
DESCRIPTION:
URL:https://fktransinvest.lt/renginiai/fk-panevezys-fk-transinvest/
CATEGORIES:TOPLYGA
END:VEVENT
BEGIN:VEVENT
DTSTART;TZID=Europe/Vilnius:20260620T163000
DTEND;TZID=Europe/Vilnius:20260620T183000
DTSTAMP:20260419T161958
CREATED:20260316T065541Z
LAST-MODIFIED:20260316T065541Z
UID:2302-1781973000-1781980200@fktransinvest.lt
SUMMARY:FK TransINVEST - FK Kauno Žalgiris
DESCRIPTION:
URL:https://fktransinvest.lt/renginiai/fk-transinvest-fk-kauno-zalgiris/
LOCATION:FK TransINVEST stadionas\, Galinės g. 5\, Galinė\, Vilniaus raj.\, Lithuania
CATEGORIES:TOPLYGA
END:VEVENT
END:VCALENDAR